BEGIN:VCALENDAR
VERSION:2.0
CALSCALE:GREGORIAN
PRODID:-//MyApp//Calendar 1.0//EN
BEGIN:VEVENT
METHOD:PUBLISH
UID:37088@regionalniportaly.cz
DTSTAMP:20260422T135624Z
DTSTART;VALUE=DATE:20240119
DTEND;VALUE=DATE:20240120
SUMMARY:Jazzový večer v klubech: THE PETERSONS (CZ)
DESCRIPTION:The PetersonsSvěží jarní závan brněnského swingu - nová kapela složená ze zkušených muzikantů. Úderné trio sází na stále populární repertoár a aranže ve stylu malých uskupení Oscara Petersona a Nat King Colea. Sety jsou našlapané hity ve všech tanečních tempech\, které jsou namíchané v dokonalém poměru.Účinkují:Čeněk Kraut - piano\, zpěvPetr Pospíšil - kontrabas\, zpěvJan Čarek - kytara\, zpěv
LOCATION:Znojmo
END:VEVENT
END:VCALENDAR