BEGIN:VCALENDAR
VERSION:2.0
CALSCALE:GREGORIAN
PRODID:-//MyApp//Calendar 1.0//EN
BEGIN:VEVENT
METHOD:PUBLISH
UID:37091@regionalniportaly.cz
DTSTAMP:20260422T153512Z
DTSTART;VALUE=DATE:20240119
DTEND;VALUE=DATE:20240120
SUMMARY:Jazzový večer v klubech: Jazz Hunters (CZ)
DESCRIPTION:JAZZ HUNTERS&nbsp\;- kapela hrající známé i zapomenuté perly ranného jazzu. Znojemští muzikanti\, zakládající si na věrné interpretaci Jazzu předswingové éry\, Vám představí nový repertoár i osvědčené evergreeny.Účinkující:Martin Navrkal (trubka)&nbsp\;Veronika Velebová (klarinet)Lukáš Navrkal (banjo\, trombon)Aleš Říha\, Jarmila Navrkalová (piano)Petr Kolář (kontrabas)&nbsp\;Jonáš Lobpreis (bicí)
LOCATION:Znojmo
END:VEVENT
END:VCALENDAR