BEGIN:VCALENDAR
VERSION:2.0
CALSCALE:GREGORIAN
PRODID:-//MyApp//Calendar 1.0//EN
BEGIN:VEVENT
METHOD:PUBLISH
UID:37174@regionalniportaly.cz
DTSTAMP:20260422T154031Z
DTSTART;VALUE=DATE:20240119
DTEND;VALUE=DATE:20240120
SUMMARY:Jazzový večer v klubech: Adam Tvrdý trio (CZ)
DESCRIPTION:Vynikající kytarista Adam Tvrdý s báječnými spoluhráči hraje moderní jazz s prvky blues\, rocku\, klasického jazzu\, latiny i klasické hudby.&nbsp\;Účinkují:Adam Tvrdý - kytaraPetr Dvorský - kontrabasJiří Stivín Jr. - bicí&nbsp\;
LOCATION:Znojmo
END:VEVENT
END:VCALENDAR