BEGIN:VCALENDAR
VERSION:2.0
CALSCALE:GREGORIAN
PRODID:-//MyApp//Calendar 1.0//EN
BEGIN:VEVENT
METHOD:PUBLISH
UID:37185@regionalniportaly.cz
DTSTAMP:20260422T164117Z
DTSTART;VALUE=DATE:20240120
DTEND;VALUE=DATE:20240121
SUMMARY:Večer swingového tance: Mr.Kong & His Swinging Monkeys (CZ)
DESCRIPTION:Swingová kapela vám přinese dobrou náladu na taneční parket. Toto kombo hraje swing ve stylu přelomu 30. a 40. let k poslechu i tanci. Tento swing rozhodně nenudí a ponouká přemístit se ze židle na taneční parket.Základy swingového tance Vás provede lektorka Alexandra Sýkorová z místní taneční komunity Swing Znojmo.&nbsp\;Účinkují:Mr. Kong &amp\; His Swinging Monkeys:Pavel Štursa (kytara\, buben\, zpěv)Matěj Fouma (piano\, zpěv)Matej Kolárik (trombon\, eufonium)Petr Vašek (housle\, klarinet\, saxofon)Alexandra Sýkorová (taneční lektorka)
LOCATION:Znojmo
END:VEVENT
END:VCALENDAR