BEGIN:VCALENDAR
VERSION:2.0
CALSCALE:GREGORIAN
PRODID:-//MyApp//Calendar 1.0//EN
BEGIN:VEVENT
METHOD:PUBLISH
UID:37190@regionalniportaly.cz
DTSTAMP:20260422T122111Z
DTSTART;VALUE=DATE:20240308
DTEND;VALUE=DATE:20240309
SUMMARY:Crossover Quintet (CZ)
DESCRIPTION:Projekt vycházející z autorské tvorby Marka Novotného\, který osobitým způsobem žánrově propojuje principy komorní vážné a jazzové hudby. Repertoár je vybudován na půdorysu klavírního tria obohacený o kontrabas a překrásný hlas Josefíny Čermákové.&nbsp\;Účinkující:Josefina Čermáková (zpěv)Marek Novotný (klavír)Pavel Hrala (housle/viola\, zpěv)Anna Kalhausová (violoncello\, zpěv)Max Makagonov (kontrabas)
LOCATION:Znojmo
END:VEVENT
END:VCALENDAR