BEGIN:VCALENDAR
VERSION:2.0
CALSCALE:GREGORIAN
PRODID:-//MyApp//Calendar 1.0//EN
BEGIN:VEVENT
METHOD:PUBLISH
UID:37191@regionalniportaly.cz
DTSTAMP:20260422T175803Z
DTSTART;VALUE=DATE:20240301
DTEND;VALUE=DATE:20240302
SUMMARY:Tellinger & Fresk Quartet (JAR/US)
DESCRIPTION:Spolupráce jihoafrické jazzové zpěvačky\, skladatelky a pedagožky Barbory Tellinger a amerického jazzového pianisty Johna Freska\, který hrál například s Bobbym McFerrinem\, Chickem Coreou a Nancy King. Potkali se náhodou před dvanácti lety a od té doby jejich jazz v americkém stylu nadchl publikum od Kapského Města až po Prahu\, která je jejich novým domovem.&nbsp\;Účinkující:Barbora Tellinger (JAR) - zpěvJohn Fresk (USA) - pianoPetr Dvorský - kontrabasMarek Urbánek - bicí
LOCATION:Znojmo
END:VEVENT
END:VCALENDAR