BEGIN:VCALENDAR
VERSION:2.0
CALSCALE:GREGORIAN
PRODID:-//MyApp//Calendar 1.0//EN
BEGIN:VEVENT
METHOD:PUBLISH
UID:37457@regionalniportaly.cz
DTSTAMP:20260422T135502Z
DTSTART;VALUE=DATE:20240111
DTEND;VALUE=DATE:20240112
SUMMARY:WORKSHOP 1: DNS prof. Koláře u mladých sportovců
DESCRIPTION:Workshop se zaměřením na INDIVIDUÁLNÍ&nbsp\;sporty (tenis\, stolní tenis\, plavání\, atletika\, gymnastika\, tanec\, aj.).Již u sportujících dětí a juniorů se objevují bolesti zad a kloubů vlivem stereotypního typu zátěže. Tímto praktickým workshopem navážeme na přednášku prof. Koláře z listopadu 2023.&nbsp\;Koncept DNS je přístup založený na vývojové kineziologii\, je hojně využívaný fyzioterapeuty a lektory nejen v Česku\, ale i ve světě. Koncept pracuje s pohybovými stereotypy - ty špatné se snaží přeprogramovat v centrální nervové soustavě a přes principy vývojové kineziologie optimalizovat pohybové chování.Přednášející:&nbsp\;Mgr. Petra Valouchová\, Ph.D. - vedoucí fyzioterapeut na klinice Centrum moderní pohybové medicíny Pavla KolářeCo workshop obsahuje?praktické ukázky principů DNSkorekce a postupy jako prevence zranění a bolesti&nbsp\;demonstrace na několika sportovních příkladech&nbsp\;&nbsp\;​ukázky a postupy mohou sloužit jako kompenzace jednostranné zátěže\, ale zároveň postupně zlepšovat sportovní techniku a výkon děti a juniorů&nbsp\;
LOCATION:Znojmo
END:VEVENT
END:VCALENDAR