BEGIN:VCALENDAR
VERSION:2.0
CALSCALE:GREGORIAN
PRODID:-//MyApp//Calendar 1.0//EN
BEGIN:VEVENT
METHOD:PUBLISH
UID:37538@regionalniportaly.cz
DTSTAMP:20260422T164253Z
DTSTART;VALUE=DATE:20240313
DTEND;VALUE=DATE:20240314
SUMMARY:Peter Lipa & Vojtěch Dyk (SK/CZ)
DESCRIPTION:Jedinečné spojení dvou výrazných osobností ve Znojmě! Přijďte si poslechnout exkluzivní spojení jazzu a blues i propojení dvou osobitých vokálních projevů jazzové legendy a populárního zpěváka a performera! Takovéto spojení rozhodně nikoho nenechá na pochybách.Účinkují:Peter Lipa Vojtěch DykDoprovodná kapela:klávesy: Peter Lipa ml.alt saxofon: Radovan Tariškabasa: Michal Šimkobubny: Martin Fedor
LOCATION:Znojmo
END:VEVENT
END:VCALENDAR