BEGIN:VCALENDAR
VERSION:2.0
CALSCALE:GREGORIAN
PRODID:-//MyApp//Calendar 1.0//EN
BEGIN:VEVENT
METHOD:PUBLISH
UID:37539@regionalniportaly.cz
DTSTAMP:20260422T164333Z
DTSTART;VALUE=DATE:20240119
DTEND;VALUE=DATE:20240120
SUMMARY:Jazzový večer v klubech: Tribute to Oscar & Ella
DESCRIPTION:Vynikající klavírista Mirek Lacko a&nbsp\;výborná jazzová zpěvačka Sophia Lamoš vzdají hold jazzovým velikánům Oscaru Petersonovi a&nbsp\;Elle Fitzgerald.
LOCATION:Znojmo
END:VEVENT
END:VCALENDAR