BEGIN:VCALENDAR
VERSION:2.0
CALSCALE:GREGORIAN
PRODID:-//MyApp//Calendar 1.0//EN
BEGIN:VEVENT
METHOD:PUBLISH
UID:37612@regionalniportaly.cz
DTSTAMP:20260422T205804Z
DTSTART;VALUE=DATE:20240717
DTEND;VALUE=DATE:20240718
SUMMARY:CZECH ENSEMBLE BAROQUE: Vítězství nad vodou II.
DESCRIPTION:Úspěšné pokračování jedinečného projektu koncert na&nbsp\;vodě&nbsp\;v&nbsp\;Mašovicích.&nbsp\;Přímo na hladině vody v působivé scenérii lomu zahraje opět Czech Ensemble Baroque. Tématem vystoupení bude vítězství nad vodou jako přírodním živlem. Tentokrát se na vodní hladině rozezní orchestrální suita “Vodní hudba” německého barokního skladatele Georga Philippa Telemanna. Prožijte neopakovatelný zážitek z lodě nebo z tribuny na přírodním útesu.
LOCATION:Mašovice
END:VEVENT
END:VCALENDAR