BEGIN:VCALENDAR
VERSION:2.0
CALSCALE:GREGORIAN
PRODID:-//MyApp//Calendar 1.0//EN
BEGIN:VEVENT
METHOD:PUBLISH
UID:37645@regionalniportaly.cz
DTSTAMP:20260422T175915Z
DTSTART;VALUE=DATE:20240716
DTEND;VALUE=DATE:20240717
SUMMARY:Opera nejen pro děti: Porucha na lodi Nautilus - derniéra
DESCRIPTION:Hudební festival Znojmo přichází opět s něčím novým a nevídaným. Chystá tři představení unikátní autorské opery nejen pro děti: Porucha na lodi Nautilus. Děti i rodiče se ponoří do hlubin známého příběhu Julese Verna a prožijí dobrodružství plné neočekávaných zvratů\, hudebních hříček a s texty\, které srší humorem a nadsázkou. Zvítězí kapitán Nemo nad nepřízní osudu a podaří se mu opravit Nautilus než jej ovládne neznámý mimozemský tvor? Přijďte ukázat svým dětem jak může vypadat svět klasické hudby v podobě zajímavého a napínavého ztvárnění.  Komorní operu pro více generací realizuje tým studentů z Hudební fakulty JAMU v Brně. Autor libreta a hudby je Lukáš Hurník\, který volně zpracoval obraz z románu J. Verna: 20.000 mil pod mořem.
LOCATION:Znojmo
END:VEVENT
END:VCALENDAR