BEGIN:VCALENDAR
VERSION:2.0
CALSCALE:GREGORIAN
PRODID:-//MyApp//Calendar 1.0//EN
BEGIN:VEVENT
METHOD:PUBLISH
UID:37678@regionalniportaly.cz
DTSTAMP:20260422T135549Z
DTSTART;VALUE=DATE:20240417
DTEND;VALUE=DATE:20240418
SUMMARY:Luboš Pospíšil + Ondřej Fencl
DESCRIPTION:Matador české hudební scény za doprovodu klávesisty a kytaristy 5P Ondřeje Fencla.
LOCATION:Znojmo
END:VEVENT
END:VCALENDAR