BEGIN:VCALENDAR
VERSION:2.0
CALSCALE:GREGORIAN
PRODID:-//MyApp//Calendar 1.0//EN
BEGIN:VEVENT
METHOD:PUBLISH
UID:37680@regionalniportaly.cz
DTSTAMP:20260422T153249Z
DTSTART;VALUE=DATE:20240405
DTEND;VALUE=DATE:20240406
SUMMARY:Olin Nejezchleba a Pavel Skála - Než na to zapomenem...
DESCRIPTION:Olin Nejezchleba a Pavel Skála vzpomínají na společná léta v Marsyas.
LOCATION:Znojmo
END:VEVENT
END:VCALENDAR