BEGIN:VCALENDAR
VERSION:2.0
CALSCALE:GREGORIAN
PRODID:-//MyApp//Calendar 1.0//EN
BEGIN:VEVENT
METHOD:PUBLISH
UID:38048@regionalniportaly.cz
DTSTAMP:20260422T153645Z
DTSTART;VALUE=DATE:20240614
DTEND;VALUE=DATE:20240615
SUMMARY:Krucipüsk | Protheus | Psycho Visions - ROCKking fest 2024
DESCRIPTION:Z níže uvedených důvodů jsme bohužel byli nuceni&nbsp\;ROCKking fest 2024&nbsp\;zrušit. Pokud jste již měli zakoupené vstupenky\, možná už máte peníze&nbsp\;zpět na svém účtu. Pokud ještě ne\, dorazí během několika dní.Akci ale úplně nerušíme!Vracíme na nádherné nádvoří Louckého kláštera ve Znojmě a koncert kapely&nbsp\;Protheus&nbsp\;odehrajeme! Jako Support vystoupí&nbsp\;Dogma Art.Akci Protheus - Loucký klášter\, Znojmo naleznete ZDE!&nbsp\;Více informací vč. vyjádření si přečtete níže.
LOCATION:Práče
END:VEVENT
END:VCALENDAR