BEGIN:VCALENDAR
VERSION:2.0
CALSCALE:GREGORIAN
PRODID:-//MyApp//Calendar 1.0//EN
BEGIN:VEVENT
METHOD:PUBLISH
UID:38062@regionalniportaly.cz
DTSTAMP:20260422T180057Z
DTSTART;VALUE=DATE:20240710
DTEND;VALUE=DATE:20240711
SUMMARY:Festivalové gala Adama Plachetky
DESCRIPTION:Oslava 20 let znojemské operní scény. Připomeňme si ty nejlepší úryvky z&nbsp\;árií\, které brilantně přednesl jedinečný Adam Plachetka v&nbsp\;operních představeních nastudovaných pouze pro znojemský festival.Za doprovodu Czech Ensemble Baroque tak opět zazní srdceryvný Tobit z Návratu Tobiáše\, hrdinný Saul z oratoria G. F. Händela nebo tajemný a uhrančivý Saturn z letošní opery Harmonie planet od Antonia Caldary. V kostele svatého Mikuláše tak budete mít jedinečnou možnost oslavit kulaté výročí festivalu úžasným hudebním zážitkem.FB událost
LOCATION:Znojmo
END:VEVENT
END:VCALENDAR