BEGIN:VCALENDAR
VERSION:2.0
CALSCALE:GREGORIAN
PRODID:-//MyApp//Calendar 1.0//EN
BEGIN:VEVENT
METHOD:PUBLISH
UID:38137@regionalniportaly.cz
DTSTAMP:20260422T163007Z
DTSTART;VALUE=DATE:20240421
DTEND;VALUE=DATE:20240422
SUMMARY:Tančírna TS Single
DESCRIPTION:Rádi byste oprášili své dovednosti z tanečních kurzů či si jen chcete zpříjemnit nedělní podvečer tancem a dobrou zábavou? Na plesech se na parketě nedá hnout nebo nehraje ta správná taneční hudba? Tak nezoufejte!Právě pro Vás jsou zde TANČÍRNY TS Single!Protančíme&nbsp\;večer elegantními standartními tanci a zavlníme se i&nbsp\;v latinsko-amerických rytmech!Na každé tančírně se budeme věnovat i výuce jednoho standartního a jednoho latinsko-amerického tance.PROGRAM:18:00 zahájení\, kontrola vstupenek18:05-18:30 volná zábava-všechny tance18:30-18:45 pauza18:45-19:15 výuka STT tance19:15-19:30 volné opakování STT tance19:30-19:45 pauza19:45-20:15 výuka LAT tance20:15-20:30 volné opakování LAT tance20:30 ukončení\, rozloučení&nbsp\;Neváhejte a přidejte se k nám v neděli v Citonicích!Budeme se na Vás těšit!
LOCATION:Citonice
END:VEVENT
END:VCALENDAR