BEGIN:VCALENDAR
VERSION:2.0
CALSCALE:GREGORIAN
PRODID:-//MyApp//Calendar 1.0//EN
BEGIN:VEVENT
METHOD:PUBLISH
UID:38521@regionalniportaly.cz
DTSTAMP:20260422T134817Z
DTSTART;VALUE=DATE:20240319
DTEND;VALUE=DATE:20240320
SUMMARY:Brave Rival (UK)
DESCRIPTION:Brave Rival\, čerpají vlivy z kapel jako John Mayer\, Aretha Franklin\, Heart\, Fleetwood Mac\, Led Zeppelin nebo Tedeschi Trucks\, a nabízejí styl a zvuk\, který jste vždy znali\, a přesto jste ho nikdy předtím neslyšeli. Budoucnost této mladé nadějné kapely\, kterou Joe Bonamassa označil za jeden z "nejoblíbenějších objevů letošního roku"\, vypadá neuvěřitelně jasně.Brave Rival je kapela na raketovém vzestupu\, která jede na plné obrátky a chystá se vzít svět útokem. Jejich jedinečná kombinace nádherně harmonických\, oduševnělých vokálů\, epických kytarových sól\, úderných bicích a mohutné basy nabízí nakažlivý zvuk\, který si nesmíte nechat ujít.
LOCATION:Znojmo
END:VEVENT
END:VCALENDAR