BEGIN:VCALENDAR
VERSION:2.0
CALSCALE:GREGORIAN
PRODID:-//MyApp//Calendar 1.0//EN
BEGIN:VEVENT
METHOD:PUBLISH
UID:38870@regionalniportaly.cz
DTSTAMP:20260422T205323Z
DTSTART;VALUE=DATE:20240724
DTEND;VALUE=DATE:20240725
SUMMARY:Nebe na zemi: Koncert Uherčického zámku
DESCRIPTION:Adam Plachetka &amp\; Ondřej Havelka a jeho Melody Makers Vám přinášejí Nebe na Zemi - nesmrtelné písně pánů Ježka\, Voskovce a Wericha.Adam Plachetka v poslední době s oblibou překračuje hranice světa klasické hudby a vydává se do hudebních oblastí dosud jím neprobádaných. Tentokrát obrací svůj zájem k repertoiru Osvobozeného divadla. Okouzlen melodiemi Jaroslava Ježka a vtipnými\, duchaplnými texty Voskovce a Wericha přizval ke spolupráci Ondřeje Havelku a jeho Melody Makers.Vzniká koncertní show\, v níž oba umělci za doprovodu prvotřídního orchestru\, specializovaného na jazz\, swing a taneční hudbu meziválečného období\, předvedou Ježkovy písně v celé své žánrové pestrosti\, pro skladatele tak typické.Odjezd autobusu od městského divadla v&nbsp\;17:30 hodin. Návrat po&nbsp\;koncertě tamtéž. Jízdenku na autobus je nutné zakoupit v předprodeji společně se vstupenkou na koncert.Sezení:zóna I. - židlezóna II. - židlezóna III. - lavicenemístenkové sezení - na vlastních dekách v mírném svahu
LOCATION:Uherčice
END:VEVENT
END:VCALENDAR