BEGIN:VCALENDAR
VERSION:2.0
CALSCALE:GREGORIAN
PRODID:-//MyApp//Calendar 1.0//EN
BEGIN:VEVENT
METHOD:PUBLISH
UID:38915@regionalniportaly.cz
DTSTAMP:20260422T135737Z
DTSTART;VALUE=DATE:20240308
DTEND;VALUE=DATE:20240309
SUMMARY:A SPORTUJ! Motivační beseda s Honzou Kollerem
DESCRIPTION:Vážení sportovní nadšenci\, rodiče a děti\, máme tu pro vás exkluzivní možnost poslechnout si nevšední příběh bývalého elitního českého fotbalového útočníka a reprezentanta Jan Kollera.Honzův příběh je motivující a jeho kariéra je protnutá zajímavými historkami\, osudem a spoustou gólů například ve Spartě\, Dortmundu a především v české reprezentaci.Akci bude moderovat známý znojemský patriot a herec Miroslav Hrabě.Můžete se těšit na:pořádnou nálož motivaceautogramiádusoutěž o podepsaný dresnějaké to překvapeníCena vstupenky je 450 Kč a bude se konat v konferenčním a kongresovém centru Louka ve Znojmě. Kapacita je omezená.&nbsp\;Děkujeme a těšíme se na vás.&nbsp\;
LOCATION:Znojmo
END:VEVENT
END:VCALENDAR