BEGIN:VCALENDAR
VERSION:2.0
CALSCALE:GREGORIAN
PRODID:-//MyApp//Calendar 1.0//EN
BEGIN:VEVENT
METHOD:PUBLISH
UID:38972@regionalniportaly.cz
DTSTAMP:20260422T163235Z
DTSTART;VALUE=DATE:20240413
DTEND;VALUE=DATE:20240414
SUMMARY:Benátský ples TS Single
DESCRIPTION:Je to tu! Největší taneční ples na Znojemsku! A ne jen tak ledajaký... Ale Benátský ples ve škraboškách!&nbsp\;Přijďte si užít slavnostní večer a roztančit s námi Znojmo!Skvělá hudba\, ojedinělý program\, kvalitní zábava...a to vše pod maskou tajemna.Tento ples bude opravdu výjimečný\, jelikož v sobě ukrývá hned tři výročí:jedná se o 10. ples pořádaný Taneční skupinou Single\;oslavíme 20 let od založení skupiny\;bude to první tematický ples ve Znojmě!&nbsp\;A na co se ještě můžete těšit?Slavnostní zahájení\, ukázky standardních a latinsko-amerických tanců\, fotokoutek\, výuka\,&nbsp\;taneční soutěž.. a možná malé překvapení... Ze židlí Vás zvedne úžasný Taneční orchestr Onkels a po půlnoci to rozjede DJ Varmix se svou afterparty.Aby měl večer tu správnou atmosféru a dostál svého jména\, &nbsp\;můžete ke svému outfitu&nbsp\;přidat&nbsp\;škrabošku&nbsp\;či benátskou masku!&nbsp\;&nbsp\;Tak neváhejte\, vezměte rodinu a přátelé a přijďte si užít jarní ples tak\, jak se patří!&nbsp\;Pokud chcete mít přehled o aktualitách\, sledujte náš Facebook a Instagram&nbsp\;&nbsp\;&nbsp\;
LOCATION:Znojmo
END:VEVENT
END:VCALENDAR