BEGIN:VCALENDAR
VERSION:2.0
CALSCALE:GREGORIAN
PRODID:-//MyApp//Calendar 1.0//EN
BEGIN:VEVENT
METHOD:PUBLISH
UID:38978@regionalniportaly.cz
DTSTAMP:20260422T153827Z
DTSTART;VALUE=DATE:20240322
DTEND;VALUE=DATE:20240323
SUMMARY:Jana Paulová
DESCRIPTION:Beseda s populární herečkou\, zpěvačkou a moderátorkou.
LOCATION:Znojmo
END:VEVENT
END:VCALENDAR