BEGIN:VCALENDAR
VERSION:2.0
CALSCALE:GREGORIAN
PRODID:-//MyApp//Calendar 1.0//EN
BEGIN:VEVENT
METHOD:PUBLISH
UID:39772@regionalniportaly.cz
DTSTAMP:20260422T233841Z
DTSTART;VALUE=DATE:20241015
DTEND;VALUE=DATE:20241016
SUMMARY:Bára Munzarová
DESCRIPTION:Beseda s populární herečkou.
LOCATION:Znojmo
END:VEVENT
END:VCALENDAR