BEGIN:VCALENDAR
VERSION:2.0
CALSCALE:GREGORIAN
PRODID:-//MyApp//Calendar 1.0//EN
BEGIN:VEVENT
METHOD:PUBLISH
UID:40173@regionalniportaly.cz
DTSTAMP:20260422T175753Z
DTSTART;VALUE=DATE:20240713
DTEND;VALUE=DATE:20240714
SUMMARY:KONCERT PŘI SVÍČKÁCH I.: Duo Absoluto
DESCRIPTION:Martin Kot (20) a&nbsp\;Viktor Stocker (13) bývají označováni za&nbsp\;nejnadanější akoreonisty mladé generace a&nbsp\;na českých i&nbsp\;zahraničních pódiích vyvolávají nadšení. Své umění prokázali na&nbsp\;celé řadě mezinárodních soutěží i&nbsp\;v rámci koncertů na&nbsp\;renomovaných festivalech včetně znojemského. Na svých koncertech přibližují nesmírně široké možnosti koncertního akordeonu.&nbsp\;Účinkují:Duo Absoluto:Viktor Stocker &amp\; Martin Kot&nbsp\;
LOCATION:Znojmo
END:VEVENT
END:VCALENDAR