BEGIN:VCALENDAR
VERSION:2.0
CALSCALE:GREGORIAN
PRODID:-//MyApp//Calendar 1.0//EN
BEGIN:VEVENT
METHOD:PUBLISH
UID:40174@regionalniportaly.cz
DTSTAMP:20260422T222100Z
DTSTART;VALUE=DATE:20240720
DTEND;VALUE=DATE:20240721
SUMMARY:KONCERT PŘI SVÍČKÁCH II.: Ensemble Rosa Mystica
DESCRIPTION:Mladý vokálně-instrumentální soubor nové generace specialistů na&nbsp\;starou hudbu. Esemble Rosa Mystica vznikl v&nbsp\;roce 2022 jako experimentální projekt Dr. Jana Hajiče\, cembalisty\, varhaníka a&nbsp\;digitálního muzikologa Akademie věd ČR. Soubor se&nbsp\;zaměřuje především na&nbsp\;aplikaci barokní hudební rétoriky - důsledně\, kupříkladu včetně dodávání textu do&nbsp\;instrumentálních partů. Výsledkem je mimořádně přesvědčivý hudební zážitek.&nbsp\;Účinkující:Ensemble Rosa Mystica:Veronika Hajičová Vojířová — sopránVojtěch Jakl — housleAnna Špelinová — traversoMelusine de Pas — viola da gamba &nbsp\;Jan Hajič — cembalo\, umělecké vedení
LOCATION:Znojmo
END:VEVENT
END:VCALENDAR