BEGIN:VCALENDAR
VERSION:2.0
CALSCALE:GREGORIAN
PRODID:-//MyApp//Calendar 1.0//EN
BEGIN:VEVENT
METHOD:PUBLISH
UID:40175@regionalniportaly.cz
DTSTAMP:20260422T180702Z
DTSTART;VALUE=DATE:20240719
DTEND;VALUE=DATE:20240720
SUMMARY:Koncert vítězů
DESCRIPTION:Již tradičně se na Jevišovickém zámku uskuteční koncert věnovaný mladým nadějím barokní hudby. Absolventi letní školy se postupně stávají součástí českých i zahraničních ansámblů a mnozí z nich se pak v budoucnu zapojují i do spolupráce s festivalem. Na zámku v Jevišovicích si také můžete prohlédnout 2. největší sbírku starých hudebních nástrojů v ČR.&nbsp\;&nbsp\;Účinkující:1. místo: Andreas Ragger - trubka2. místo: Eliška Juříková - flétna3. místo: Amálie Dobšíková - housleza doprovodu souboru orchestru Czech Ensemble Baroque&nbsp\;Odjezd autobusu od městského divadla&nbsp\;v 17:30 hodin.&nbsp\;
LOCATION:Jevišovice
END:VEVENT
END:VCALENDAR