BEGIN:VCALENDAR
VERSION:2.0
CALSCALE:GREGORIAN
PRODID:-//MyApp//Calendar 1.0//EN
BEGIN:VEVENT
METHOD:PUBLISH
UID:40176@regionalniportaly.cz
DTSTAMP:20260422T233901Z
DTSTART;VALUE=DATE:20240728
DTEND;VALUE=DATE:20240729
SUMMARY:KOUDA'S QUARTET: Jazzové matiné
DESCRIPTION:Oblíbený Kouda´s quartet doprovodí svými tóny v rytmu jazzu pohodové dopolední setkání s&nbsp\;přáteli nad&nbsp\;dobrým vínem a&nbsp\;piknikovými košíky plných chutných dobrot v&nbsp\;lůně nádherné přírody Národního parku Podyjí. Jako za starých časů!&nbsp\;Účinkují:Kouda´s Quartet
LOCATION:Hnanice
END:VEVENT
END:VCALENDAR