BEGIN:VCALENDAR
VERSION:2.0
CALSCALE:GREGORIAN
PRODID:-//MyApp//Calendar 1.0//EN
BEGIN:VEVENT
METHOD:PUBLISH
UID:40337@regionalniportaly.cz
DTSTAMP:20260422T164903Z
DTSTART;VALUE=DATE:20240416
DTEND;VALUE=DATE:20240417
SUMMARY:"IL MONDO" - operní a muzikálová show
DESCRIPTION:Jedno z nejvýznamějších operních a muzikálových show současnosti\, kde vystoupí tenor Martin Vrba\, sopranistka Nikol Turoňová a muzikálová zpěvačka Martina Kejzlarová.Toto show se nese v duchu slavných operních árií\, duetů a písní\, dále melodií muzikálových\, zahraničních\, šanzonových\, ale i popových.Diváci se mohou těšit na árie a duety z oper Rigoletto\, La Boheme\, Turandot\, Rusalka a dále na písně O sole mio\, Besame Mucho\, Core ngrato\, La Danza aj. Z muzikálové tvorby Vám nabídneme melodie a duety z muzikálu Fantom opery\, Les Miserables\, Cats\, Dracula. Nezůstaneme nic dlužni ani operetě a podíváme se spolu do světa operety F. Lehára\, R. Strausse a E. Kalmána.&nbsp\;Martin Vrba (tenor) - vystupoval na mnoha pódiích doma i v zahraničí a je znám především pro svůj emotivní projev na jevišti. Diváky je oceňován pro svou rytmiku\, tradiční frázování a pestrost pěveckých rejstříků při samotných vystoupeních.Nikol Turoňová (soprán) - sopranistka Nikol Turoňová se narodila do muzikantské rodiny z&nbsp\;podhůří Beskyd. Je absolventkou stáže na milánské akademii zpěvu pod vedením proslulého tenoristy Nikoly Martinucciho\, debutovala jako Zerlina v&nbsp\;Mozartově opeře Don Giovanni v&nbsp\;italském divadle Teatro Garibaldi.Martina Kejzlarová (mezzosoprán) - muzikálová zpěvačka Martina Kejzlarová pochází ze Znojma a pro mnoho posluchačů bude její debut milým překvapením. Diváci jí uslyší v muzikálových melodiích a duetech.
LOCATION:Znojmo
END:VEVENT
END:VCALENDAR