BEGIN:VCALENDAR
VERSION:2.0
CALSCALE:GREGORIAN
PRODID:-//MyApp//Calendar 1.0//EN
BEGIN:VEVENT
METHOD:PUBLISH
UID:40637@regionalniportaly.cz
DTSTAMP:20260422T221944Z
DTSTART;VALUE=DATE:20240727
DTEND;VALUE=DATE:20240728
SUMMARY:A. VIVALDI: Juditha Triumphans - repríza
DESCRIPTION:Hudební festival Znojmo k 20. výročí připravuje opět ve&nbsp\;vlastní produkci výpravnou operu. Vrací se&nbsp\;k díku Antonia Vivaldiho\, kde zvolili krásné dílo Juditha Triumphans (Judita triumfující). Toto duchovní oratorium pro sólové ženské hlasy\, ženský sbor a&nbsp\;orchestr najdeme v&nbsp\;katalogu Vivaldiho skladeb pod&nbsp\;číslem 644.Jedná se&nbsp\;o jediné ze&nbsp\;čtyř Vivaldiho oratorií\, které se&nbsp\;uchovalo do&nbsp\;dnešních dní. Vivaldi ho dokončil roku 1716 v&nbsp\;Benátkách. Ve Znojmě zazní v tomto hvězdném obsazení: Juditha (mezzosoprán)\, mladá vdova Dagmar Šašková Holofernes (mezzosoprán)\, asyrský generál Malena Ernman Vagaus (soprán)\, Holofernův zeman Doubravka Součková Abra (soprán)\, služebná Judithy Maya Amir Ozias (mezzosoprán)\, velekněz z&nbsp\;Bethulie Monika Jägerová.Režie: Tomáš Ondřej PilařDirigent: Roman VálekOrchestr a&nbsp\;sbor: Czech Ensemble Baroque
LOCATION:Znojmo
END:VEVENT
END:VCALENDAR