BEGIN:VCALENDAR
VERSION:2.0
CALSCALE:GREGORIAN
PRODID:-//MyApp//Calendar 1.0//EN
BEGIN:VEVENT
METHOD:PUBLISH
UID:41010@regionalniportaly.cz
DTSTAMP:20260422T154125Z
DTSTART;VALUE=DATE:20240524
DTEND;VALUE=DATE:20240525
SUMMARY:Víkend plný zábavy
DESCRIPTION:PÁTEK OD 15:00 - MUZIKA POD DUBEM15:00Lidový vypravěč FRANTA UHER z LanžhotaMalá slovácká dechová hudba CYRILKA z RakvicKOLOVRÁTEK HraběticeTombola. Soutěž o nejlepší koláč. Přihlášky do soutěže: daba.myslivna@gmail.com.Autobusová doprava z města a zpět ZDARMA. První autobus na Myslivnu pojede ve 14:00 ze zastávky Lékárna\, ve 14:10 ze zastávky Lidická VÚPP a poté bude jezdit každou hodinu tam i zpět až zhruba do 21 hodin.20:00Večerní RETRO PÁRTY 80. a 90. LET&nbsp\; &nbsp\;&nbsp\;DJ MANNEX - moderátoři&nbsp\;rádia FRESH Martin Chleboun a Kamil Kamas&nbsp\;SOBOTA OD 10:00 - DEN OTEVŘENÝCH DVEŘÍ VYSTOUPENÍ DĚTÍ Z MŠ\, ZŠ\, ZUŠDFS JARABÁČEKTaneční kroužek ZŠ Drnholec\, KlokaniMIGHTY SHAKEKEJKLÍŘ ČABIKDISKOTÉKABOHATÝ DOPROVODNÝ PROGRAM PRO DĚTINa co se mohou děti těšit? Naučný stánek Zemědělství žije\, výstava zemědělské techniky\, malování na obličej\, ukázka techniky IZS (hasiči a pěna\, záchranáři se sanitkou\, přislušníci policie s vozem)\, start horkovzdušných balónů\, střílení ze vzduchovky\, paintball na terče\, dílničky\, zdobení perníčků\, křížovka\, dobroty: párek v rohlíku\, palačinky\, cukrová vata.OBČERSTVENÍ A OCHUTNÁVKA VÍN PO CELÝ VÍKEND.Těší se na Vás pořadatelé.&nbsp\;
LOCATION:Hrušovany nad Jevišovkou
END:VEVENT
END:VCALENDAR