BEGIN:VCALENDAR
VERSION:2.0
CALSCALE:GREGORIAN
PRODID:-//MyApp//Calendar 1.0//EN
BEGIN:VEVENT
METHOD:PUBLISH
UID:41095@regionalniportaly.cz
DTSTAMP:20260422T221816Z
DTSTART;VALUE=DATE:20240831
DTEND;VALUE=DATE:20240901
SUMMARY:OSLAVA KRÁSY A ZDRAVÍ
DESCRIPTION:Zveme Vás na&nbsp\;OSLAVU KRÁSY A&nbsp\;ZDRAVÍ\, která se koná u&nbsp\;příležitosti 10. výročí módy Ženy Bohyně - www.zenabohyne.com.Rádi bychom to s&nbsp\;Vámi oslavili jak se patří\, takže se můžete těšit na&nbsp\;módní přehlídku nové kolekce Thayana\, která bude v&nbsp\;mnoha ohledech nová a&nbsp\;netradiční. Thayana je strážkyní naší řeky Thaya - Dyje a&nbsp\;věřím\, že Vás nadchne.&nbsp\;A k&nbsp\;tomu všemu krásný doprovodný program:10:00 &nbsp\;Otevření prostoru10:15 &nbsp\;Slavnostní zahájení10:30 &nbsp\;ROZEZNĚNÍ - Kristínka Šimegová&nbsp\;11:30 &nbsp\;PŘÍBĚH THAYANY - módní přehlídka12:00 &nbsp\;Obědová a&nbsp\;seznamovací přestávka14:00 &nbsp\;RozhovoryKRÁSA - Jan Krhutová a&nbsp\;Michala VyhnánkováZDRAVÁ VÝŽIVA - Lenka MrkvičkováPÁNEVNÍ DNO - Lucie LangováZDRAVÝ POHYB - Markéta Tomanová17:00 &nbsp\;Přestávka18:00 &nbsp\;TANEČNÍ MEDICÍNA - Marcela Berith20:00 &nbsp\;ENIESA - koncert slovenské zpěvačky22:00 &nbsp\;Pozvolné utichnutí&nbsp\;Nebudou chybět prodejní stánky s&nbsp\;osobitou tvorbou a&nbsp\;dobrotami.Mrkněte a&nbsp\;rezervujte si vstupenky. Kapacita prostoru je omezená :-).Těšíme se na&nbsp\;Vás.&nbsp\;&nbsp\;PODROBNÝ PROGRAM&nbsp\;
LOCATION:Znojmo
END:VEVENT
END:VCALENDAR