BEGIN:VCALENDAR
VERSION:2.0
CALSCALE:GREGORIAN
PRODID:-//MyApp//Calendar 1.0//EN
BEGIN:VEVENT
METHOD:PUBLISH
UID:41651@regionalniportaly.cz
DTSTAMP:20260422T163758Z
DTSTART;VALUE=DATE:20240601
DTEND;VALUE=DATE:20240602
SUMMARY:Highway to hell
DESCRIPTION:Již 10 let jsme tu pro vás na Vinařském penzionu ve Strachoticích\, již 20 let tu máme vysazenou vinici\,již 17 let jsme certifikováni jako biovinařství\,&nbsp\;&nbsp\;již 15 let prodáváme naše víno v biokvalitě\, již přes 30 let jsme tu pro vás. Prostě musíme to oslavit :-)15 hod Vystoupení cimbálové muziky Tája19 hod velký raut\, abyste nám vydrželi do ranních hodin čilí&nbsp\;21 hod&nbsp\;nejúžasnější párty kapela\, skvělá show skupiny Jambox! Párty jakou jste u nás nezažili.&nbsp\;
LOCATION:Strachotice
END:VEVENT
END:VCALENDAR