BEGIN:VCALENDAR
VERSION:2.0
CALSCALE:GREGORIAN
PRODID:-//MyApp//Calendar 1.0//EN
BEGIN:VEVENT
METHOD:PUBLISH
UID:41824@regionalniportaly.cz
DTSTAMP:20260422T164315Z
DTSTART;VALUE=DATE:20240711
DTEND;VALUE=DATE:20240712
SUMMARY:Stand-up Martina Jakubíčka
DESCRIPTION:Brněnský varhaník a skladatel Martin Jakubíček vystoupí na téma: "Odvážně a nevážně s vážnou hudbou převážně". Nenechte si ujít jedinečnou one man show\, která Vás zaručeně pobaví a zároveň poskytne pohled do zákulisí koncertů\, svateb\, pohřbů nebo zahraničních cest. Můžete se těšit na vtipné historky ze života hudebníka s nezaměnitelným humorem a bohatými zážitky.
LOCATION:Znojmo
END:VEVENT
END:VCALENDAR