BEGIN:VCALENDAR
VERSION:2.0
CALSCALE:GREGORIAN
PRODID:-//MyApp//Calendar 1.0//EN
BEGIN:VEVENT
METHOD:PUBLISH
UID:41825@regionalniportaly.cz
DTSTAMP:20260422T180519Z
DTSTART;VALUE=DATE:20240712
DTEND;VALUE=DATE:20240713
SUMMARY:Zahajovací koncert: Pavel Šporcl
DESCRIPTION:Patron festivalu Pavel Šporcl\, který je známý ze světových pódií\, si na zahajovací koncert pozval opravdové světové hudební hvězdy. Na violoncello jej doprovodí špičkový ukrajinský hudebník Aleksey Shadrin a řecká pianistka a zároveň výborná hudební pedagožka Katia Skanavi. Zazní skladby Bacha\, Šostakoviče\, Ravela či Beethovena.&nbsp\;Účinkují:Pavel Šporcl (CZ) - housleAleksey Shadrin (UKR) - violoncelloKatia Skanavi (RU) - klavír
LOCATION:Znojmo
END:VEVENT
END:VCALENDAR