BEGIN:VCALENDAR
VERSION:2.0
CALSCALE:GREGORIAN
PRODID:-//MyApp//Calendar 1.0//EN
BEGIN:VEVENT
METHOD:PUBLISH
UID:41827@regionalniportaly.cz
DTSTAMP:20260422T163113Z
DTSTART;VALUE=DATE:20240714
DTEND;VALUE=DATE:20240715
SUMMARY:Koncert na dřeň: CLARINET FACTORY
DESCRIPTION:Charitativní koncert na&nbsp\;podporu Nadace pro transplantaci kostní dřeně. Tentokrát se&nbsp\;můžete těšit na&nbsp\;špičkové kvarteto Clarinet Factory. Kapela se&nbsp\;absolutně vymyká kategorizaci\, tím že hraje na&nbsp\;klarinety\, basklarinet\, samplovací pady a&nbsp\;doplňuje je vokály. Vynikající hudebníci vytvářejí skladby na&nbsp\;pomezí soudobé a&nbsp\;vážné hudby\, jazzu\, světové i&nbsp\;elektronické hudby. Ve Znojmě vystoupí se speciálním hostem Milanem Cimfem.Z každé prodané vstupenky bude převedeno 100\,- Kč na "Na dřeň".&nbsp\;Účinkující:CLARINET FACTORY:Jindřich Pavliš - kontrabasklarinetVojtěch Nýdl - klarinetLuděk Boura - klarinetPetr "Pepíno" Valášek - basklarinethost: Milan Cimfe - bicí
LOCATION:Dobšice
END:VEVENT
END:VCALENDAR