BEGIN:VCALENDAR
VERSION:2.0
CALSCALE:GREGORIAN
PRODID:-//MyApp//Calendar 1.0//EN
BEGIN:VEVENT
METHOD:PUBLISH
UID:41911@regionalniportaly.cz
DTSTAMP:20260422T170421Z
DTSTART;VALUE=DATE:20240722
DTEND;VALUE=DATE:20240723
SUMMARY:Filozofický koncert: MATYÁŠ NOVÁK
DESCRIPTION:Klavírista Matyáš Novák patří díky mimořádnému harmonickému cítění\, širokému repertoáru a vynikající úhozové technice k nejperspektivnějším pianistům své generace. V deseti letech vystoupil poprvé s orchestrem\, v devatenácti pak debutoval v Carnegie Hall a ve dvaceti se představil samostatným recitálem na festivalu Pražské jaro. O jeho zcela mimořádném hudebním talentu svědčí množství ocenění z domácích a zahraničních soutěží. Program koncertu tohoto mladého talentovaného klavíristy se odehrává takřka na hranici lidských možností. Vystoupení bude doplněno přednáškou odborníka na téma "Vítězství člověka nad hudbou".&nbsp\;Účinkující:Matyáš Novák - klavír
LOCATION:Znojmo
END:VEVENT
END:VCALENDAR