BEGIN:VCALENDAR
VERSION:2.0
CALSCALE:GREGORIAN
PRODID:-//MyApp//Calendar 1.0//EN
BEGIN:VEVENT
METHOD:PUBLISH
UID:42239@regionalniportaly.cz
DTSTAMP:20260422T135747Z
DTSTART;VALUE=DATE:20240529
DTEND;VALUE=DATE:20240530
SUMMARY:Pohybová aktivita jako nedílná součást života našich dětí
DESCRIPTION:Dnešní doba blahobytu je mimo jiné charakteristická sníženou pohybovou aktivitou. Proto je nutné si uvědomit\, že my dospělí jsme spolu-zodpovědní za vytváření podmínek\, které vedou k aktivnímu výběru pohybových aktivit našich dětí\, neboť současná doba už to přirozeně "nevyprovokovává".&nbsp\;Toho nelze dosáhnout bez výstupů z komfortní zóny. Hlavním předpokladem pro tyto výstupy je energie\, kterou lze vybudit nejen motivací ale především emocí\, respektive tvorbou silné emoční vazby k pohybu jako takovému.Přednášející:&nbsp\;PhDr. Marian Jelínek\, Ph.D.&nbsp\;je uznávaný bývalý hokejový trenér\, kouč\, manažer a&nbsp\;autor řady knih. Již více než 35 let se zabývá sportovní psychologií a&nbsp\;mentálním koučinkem. Současně mimo jiné působí jako hlavní sportovní psycholog u fotbalové Sparty Praha.Akce se uskuteční za podpory Jihomoravského kraje.
LOCATION:Znojmo
END:VEVENT
END:VCALENDAR