BEGIN:VCALENDAR
VERSION:2.0
CALSCALE:GREGORIAN
PRODID:-//MyApp//Calendar 1.0//EN
BEGIN:VEVENT
METHOD:PUBLISH
UID:42404@regionalniportaly.cz
DTSTAMP:20260422T151821Z
DTSTART;VALUE=DATE:20240612
DTEND;VALUE=DATE:20240613
SUMMARY:Laco Déczi & Celula New York
DESCRIPTION:Účinkující:Laco Déczi – trumpet\,Walter Fischbacher – keyboards\,Michael Krásný – bass\, vocal\,Vaico Deczi – drums&nbsp\;
LOCATION:Znojmo
END:VEVENT
END:VCALENDAR