BEGIN:VCALENDAR
VERSION:2.0
CALSCALE:GREGORIAN
PRODID:-//MyApp//Calendar 1.0//EN
BEGIN:VEVENT
METHOD:PUBLISH
UID:42471@regionalniportaly.cz
DTSTAMP:20260422T135609Z
DTSTART;VALUE=DATE:20240531
DTEND;VALUE=DATE:20240601
SUMMARY:40 let Cimbálové muziky Antonína Stehlíka
DESCRIPTION:Cimbálová muzika Antonína Stehlíka slaví 40 let od svého vzniku. Původně pod názvem Polaječka založil první znojemskou dětskou cimbálovou muziku houslista a pedagog tehdejší znojemské Lidové školy umění Antonín Stehlík. V letech 1991-1995 působil jako její primáš a na jeho počest se soubor mladých znojemských muzikantů v roce 1993 podle něj přejmenoval.Muzika dnes působí pod vedením primáše Jiřího Ludvíka v sestavě se Zbyňkem Súkupem (terc)\, Lenkou Hrůzovou (obligát)\, Josefem Brožem (klarinet)\, Lenkou Jíšovou (cimbál)\, &nbsp\;Antonínem&nbsp\;Stehlíkem (kontrabas)\, Lubošem Pokorným (kontry).Na oslavu svého výročí pozvala cimbálka známá také pod zkratkou CMAS do Hradebního příkopu ve Znojmě vzácné hosty v čele s legendárním horňáckým primášem Martinem Hrbáčem. Dalšími gratulanty z těch nejlepších muzikantů a folklorních osobností stejné generace jako je cimbálka sama jsou Radim Kovárník\, Jakub Tomala\, Jakub Šustr\, Janek Minks\, Jakub Ilík a CM Dyjavan.
LOCATION:Znojmo
END:VEVENT
END:VCALENDAR