BEGIN:VCALENDAR
VERSION:2.0
CALSCALE:GREGORIAN
PRODID:-//MyApp//Calendar 1.0//EN
BEGIN:VEVENT
METHOD:PUBLISH
UID:42472@regionalniportaly.cz
DTSTAMP:20260423T010817Z
DTSTART;VALUE=DATE:20240720
DTEND;VALUE=DATE:20240721
SUMMARY:Odpoledne se sommeliérem Jakubem Přibylem
DESCRIPTION:Vinná degustace s jedním z nejlepších českých sommelierů a cenami ověnčeným Jakubem Přibylem. Představí zahraniční vína a promluví i o vybraných vínech festivalové kolekce. Jakub Přibyl je trojnásobný vítěz soutěže Bohemia Sekt Trophé\, semifinalista Mistrovství Evropy sommelierů a jediný český držitel titulu Advanced Court of Master Sommelier.
LOCATION:Znojmo
END:VEVENT
END:VCALENDAR