BEGIN:VCALENDAR
VERSION:2.0
CALSCALE:GREGORIAN
PRODID:-//MyApp//Calendar 1.0//EN
BEGIN:VEVENT
METHOD:PUBLISH
UID:42473@regionalniportaly.cz
DTSTAMP:20260422T151435Z
DTSTART;VALUE=DATE:20240608
DTEND;VALUE=DATE:20240609
SUMMARY:Morčata na útěku
DESCRIPTION:1.TRADIČNÍ VEČÍREK POKLESLÉ ZÁBAVYPředkapela: ONSET - Kapela: MORČATA NA ÚTĚKU - DJ Alan Pávek8.6.2024&nbsp\; &nbsp\;&nbsp\;&nbsp\;Začátek 18:00&nbsp\; - Konec&nbsp\;3:15Kulturní dům Práče u Znojma. Práče 7\, 671 61 PráčePŘEDPRODEJ: 500 Kč NA MÍSTĚ: 600 Kč jen OLDIES od 22:00 100 KčObčerstvení zajišťuje: BÚDA F.T. - Pivo z Poličky - Alko a Nealko
LOCATION:Práče
END:VEVENT
END:VCALENDAR