BEGIN:VCALENDAR
VERSION:2.0
CALSCALE:GREGORIAN
PRODID:-//MyApp//Calendar 1.0//EN
BEGIN:VEVENT
METHOD:PUBLISH
UID:42474@regionalniportaly.cz
DTSTAMP:20260422T164222Z
DTSTART;VALUE=DATE:20240720
DTEND;VALUE=DATE:20240721
SUMMARY:Tour de Varhany
DESCRIPTION:Se svými improvizacemi a varhanním dialogem vystoupí přední interpreti české a rakouské varhanní školy. Projekt začíná kultovním nástrojem&nbsp\;v Louce a publikum má zajištěnou dopravu na všechny následující koncerty s odborným výkladem ke všem nástrojům. Program je připravován&nbsp\;interprety na dramaturgické téma festivalu.&nbsp\;11:00 kostel Nanebevzetí Panny Marie a svatého Václava\, Znojmo-Louka (CZ)13:00 kostel Stětí sv. Jana Křtitele\, Vrbovec (CZ)15:00 farní kostel\, Pulkau (AT)&nbsp\;Účinkují:Marin Jakubíček (CZ) - varhanyOndřej Múčka (CZ) - varhanyInes Schüttengruber (AT) - varhanyBenedikt Fehringer (AT) - trubka&nbsp\;
LOCATION:Znojmo
END:VEVENT
END:VCALENDAR