BEGIN:VCALENDAR
VERSION:2.0
CALSCALE:GREGORIAN
PRODID:-//MyApp//Calendar 1.0//EN
BEGIN:VEVENT
METHOD:PUBLISH
UID:42841@regionalniportaly.cz
DTSTAMP:20260422T205342Z
DTSTART;VALUE=DATE:20240721
DTEND;VALUE=DATE:20240722
SUMMARY:Koncert ze znojemských archivů: CAPELLA SEBASTIANA
DESCRIPTION:Program je koncipován jako slavnostní bohoslužba a je sestaven z děl významných skladatelů\, kteří působili v období pozdní renesance na území Německa. Jednu z nejkrásnějších renesančních mší\, dvojsborovou parodickou mši Osculetur me Rollanda Lassuse doplní moteta ze sbírky Opusculum novum selectissimarum cantionum sacrarum\, jejíž opis byl nalezen ve Znojemských hudebních archívech.Účinkují:Capella Sebastianaum.vedoucí Čeněk Svobodaobsazení:Sylva Sasková\, Anna Černá - sopránKamila Mazalová\, Eva Klatovská - altČeněk Svoboda\, Markus Klose - tenorVít Fanta\, Ondřej Hlaváč - basKristýna Kosíková - varhany&nbsp\;
LOCATION:Znojmo
END:VEVENT
END:VCALENDAR