BEGIN:VCALENDAR
VERSION:2.0
CALSCALE:GREGORIAN
PRODID:-//MyApp//Calendar 1.0//EN
BEGIN:VEVENT
METHOD:PUBLISH
UID:42849@regionalniportaly.cz
DTSTAMP:20260422T205511Z
DTSTART;VALUE=DATE:20240723
DTEND;VALUE=DATE:20240724
SUMMARY:Industriální koncert: Hana Fleková a Edita Keglerová
DESCRIPTION:Mýtická milostná zápolení v hudbě francouzského baroka. Vítězství gamby na dvoře francouzských králů. Skladby pro violu gambu na dvoře Ludvíka XIV. aneb gamba jako královna dvorních hudebních nástrojů. Díla od Marin Marais\, Jean-Baptiste Lully\, François Couperin a dalších.Dvě špičkové hudebnice zahrají k dvacátému výročí hudebního festivalu na téma "vítězství lásky" v netradičních prostorech výrobního areálu rodinné firmy Nevoga.Účinkují:Haka Fleková - viola gambaEdita Keglerová - cemballo
LOCATION:Znojmo
END:VEVENT
END:VCALENDAR