BEGIN:VCALENDAR
VERSION:2.0
CALSCALE:GREGORIAN
PRODID:-//MyApp//Calendar 1.0//EN
BEGIN:VEVENT
METHOD:PUBLISH
UID:42850@regionalniportaly.cz
DTSTAMP:20260423T011044Z
DTSTART;VALUE=DATE:20240726
DTEND;VALUE=DATE:20240727
SUMMARY:Cimbál\, víno\, vítězství: VUS ONDRÁŠ
DESCRIPTION:Zažijte jedinečný komponovaný večer s folklorní muzikou ve slámovém amfiteátru! Čeká vás ondrášovské putování s vojenským uměleckým souborem Ondráš a beseda s Cimbálovou muzikou Antonína Stehlíka ze Znojma.Účinkující:VUS Ondráš je profesionální umělecké těleso zřizované Ministerstvem obrany ČR se sídlem v Brně. Tvoří jej Orchestr lidových nástrojů\, taneční skupina a dívčí sbor. Ondrášovské putování je celosouborový pořad sestavený z tanečních\, pěveckých a hudebních čísel\, které vás provede od kraje jihočeských rybníků\, přes Moravu až na temperamentní Slovensko.Užijete si jak české kolové tance\, tak i tance ze Slovácka\, pokocháte se pestrostí krojů několika regionů i akrobatickými tanečními kreacemi z oblíbené Myjavy.Cimbálová muzika Antonína Stehlíka je tradiční znojemská cimbálovka\, která čerpá ze všech folklorních regionů Moravy\, ale i Slovenska.
LOCATION:Šanov
END:VEVENT
END:VCALENDAR