BEGIN:VCALENDAR
VERSION:2.0
CALSCALE:GREGORIAN
PRODID:-//MyApp//Calendar 1.0//EN
BEGIN:VEVENT
METHOD:PUBLISH
UID:43257@regionalniportaly.cz
DTSTAMP:20260422T193127Z
DTSTART;VALUE=DATE:20240817
DTEND;VALUE=DATE:20240818
SUMMARY:Protheus - Loucký klášter\, Znojmo
DESCRIPTION:ProtheusZpěvák\, textař a bývalý frontman kapely Dymytry\, ve které vystupoval 20 let v masce a pod jménem „Protheus“. Je také učitelem na Fakultě lesnické a dřevařské České zemědělské univerzity. V anketě Český slavík Mattoni 2017 se mezi zpěváky umístil na 9. místě. Od roku 2019 působí také jako sólový zpěvák pod jménem Protheus.&nbsp\;Dogma ArtZnačka Dogma Art patří ke skutečným veteránům české hard rockové scény - její vznik se datuje rokem 1980 a některé prameny hovoří dokonce o roku 1979.
LOCATION:Znojmo
END:VEVENT
END:VCALENDAR