BEGIN:VCALENDAR
VERSION:2.0
CALSCALE:GREGORIAN
PRODID:-//MyApp//Calendar 1.0//EN
BEGIN:VEVENT
METHOD:PUBLISH
UID:43260@regionalniportaly.cz
DTSTAMP:20260422T182442Z
DTSTART;VALUE=DATE:20240726
DTEND;VALUE=DATE:20240727
SUMMARY:Šramlfest 2024
DESCRIPTION:Znojemský festival alternativní hudby\, divadla a výtvarnaPátekDamúza&nbsp\;15:00Blue Chesterfield / CZ&nbsp\;15:30Hrubá Hudba / CZ&nbsp\;17:30Shake Stew / AT&nbsp\;20:00Macadam Crocodile / FR&nbsp\;22:00Sobota15:00&nbsp\;Mikro Teatro16:00&nbsp\;Corpo Midori / CZ18:00&nbsp\;FruFru / CZ20:00&nbsp\;Donna Blue / NL22:00&nbsp\;Polynation / NL
LOCATION:Znojmo
END:VEVENT
END:VCALENDAR