BEGIN:VCALENDAR
VERSION:2.0
CALSCALE:GREGORIAN
PRODID:-//MyApp//Calendar 1.0//EN
BEGIN:VEVENT
METHOD:PUBLISH
UID:43352@regionalniportaly.cz
DTSTAMP:20260422T210511Z
DTSTART;VALUE=DATE:20241012
DTEND;VALUE=DATE:20241013
SUMMARY:Walda Gang - Práče u Znojma
DESCRIPTION:Nově přidaná kapely FRANTA JETEL!WALDA GANGJe česká rocková skupina\, kterou založil zpěvák skupiny Harlej Vláďa Šafránek po smrti Waldemara Matušky. Je zaměřená na rockové předělávky skladeb Waldemara Matušky a dalších známých českých i zahraničních písní.&nbsp\;MylionsNa českém hudebním nebi (nebo pekle :-)) se opět něco událo!&nbsp\;Nebyla to žádná vánoční kometa\, ale v podzimní moravské mlhovině roku 2017 se seskupilo nové těleso. Nabralo obrátky a hlavně směr od prvního představení veřejnosti hudebním klubu Melodka v Brně k dalším úspěšným vystoupením po celé České republice.&nbsp\;FRANTA JETELUndergroundová legenda z Brna - třaskavá směs undergroundu\, punku\, metalu\, lidové písně\, staré i nové vlny\, i ryzího amatérismu.
LOCATION:Práče
END:VEVENT
END:VCALENDAR