BEGIN:VCALENDAR
VERSION:2.0
CALSCALE:GREGORIAN
PRODID:-//MyApp//Calendar 1.0//EN
BEGIN:VEVENT
METHOD:PUBLISH
UID:43657@regionalniportaly.cz
DTSTAMP:20260423T010914Z
DTSTART;VALUE=DATE:20240715
DTEND;VALUE=DATE:20240716
SUMMARY:Koncert jaroslavického zámku: PROJEKT METASTASIO
DESCRIPTION:V letošním ročníku uctíme a oslavíme tohoto velikána díky české operní hvězdě Dagmar Šaškové v doprovodu špičkových hudebníků. Průvodní slovo přednese známá česká herečka a zpěvačka Barbora Kodetová Šporclová. Koncert proběhně v prostorech zámku Jaroslavice\, který pochází z 16. století a je chráněn jako kulturní památka.Účinkují:Dagmar Šašková - mezzosopranMonika Knoblochová - cemballoJosef Žák - housleLibor Mašek - violoncelloBarbora Kodetová Šporclová - průvodní slovo
LOCATION:Jaroslavice
END:VEVENT
END:VCALENDAR