BEGIN:VCALENDAR
VERSION:2.0
CALSCALE:GREGORIAN
PRODID:-//MyApp//Calendar 1.0//EN
BEGIN:VEVENT
METHOD:PUBLISH
UID:43820@regionalniportaly.cz
DTSTAMP:20260422T205057Z
DTSTART;VALUE=DATE:20240926
DTEND;VALUE=DATE:20240927
SUMMARY:Kecy a politika
DESCRIPTION:Současná politika pohledem dvou rozdílných osobností\, které se nebojí říct své názory - komentátora Bohumila Pečinky&nbsp\;a Petrose Michopulose\, muže\, který se čtvrtstoletí zabývá marketingem a politikou.&nbsp\;
LOCATION:Znojmo
END:VEVENT
END:VCALENDAR