BEGIN:VCALENDAR
VERSION:2.0
CALSCALE:GREGORIAN
PRODID:-//MyApp//Calendar 1.0//EN
BEGIN:VEVENT
METHOD:PUBLISH
UID:43832@regionalniportaly.cz
DTSTAMP:20260422T221953Z
DTSTART;VALUE=DATE:20241210
DTEND;VALUE=DATE:20241211
SUMMARY:Dny zázraků a přání - koncert
DESCRIPTION:II. ročník charitativního koncertu Věznice Znojmo pro Nadační fond "Kapka naděje" je událostí\, která spojuje hudbu s dobrými skutky. Tento koncert se koná v nádherném prostředí Městského divadla ve Znojmě\, a je zaměřen na podporu Nadačního fondu "Kapka naděje"\, který pomáhá nemocným dětem a jejich rodinám.Charitativní koncert organizuje ředitelka Věznice Znojmo plk. Mgr. Lenka Smutná ve spolupráci s vedením věznice a umělci pod hlavičkou Opera Stars. Na koncertě vystoupí tenor Martin Vrba\, sopranistka Nikol Turoňová\, mezosopranistka Martina Kejzlarová\, Duo Divine a Iris\, kdy se tito umělci rozhodli podpořit tuto iniciativu.Nadační fond "Kapka naděje" byl založen s cílem podporovat dětská oddělení nemocnic\, zvláště ty\, které se zaměřují na léčbu onkologických onemocnění. Fond zajišťuje financování moderního vybavení\, podporuje vědecký výzkum a zajišťuje psychosociální podporu pro děti a jejich rodiny. I když se jedná teprve o druhý ročník\, první ročník byl velmi úspěšný a přinesl pozitivní ohlasy\, jak ze strany veřejnosti\, tak i samotných zaměstnanců věznice. Výtěžek z koncertu pomůže financovat důležité projekty a zlepšovat podmínky pro léčbu onkologicky nemocných dětí.Věznice Znojmo tak navazuje na charitativní koncert konaný v loňském roce kdy charitativní akci přijeli podpořit senátor Mgr. Tomáš Třetina\, starostka Města Znojmo Ing. Ivana Solařová a regionální ředitel&nbsp\; brig. gen. PhDr. Dušan Gáč\, MBA. Závěrem ředitelka věznice poděkovala všem účinkujícím za krásný kulturní zážitek a ocenila jejich úsilí při přípravách na tuto akci. Celý výtěžek z koncertu byl věnován nadaci "Bílý kruh bezpečí" a bude využit na činnosti směřující k přímé podpoře obětí trestné činnosti. Myšlenka ředitelky Věznice Znojmo se tak proměnila ve skutečnost. Je tedy velkým přáním\, aby letošní ročník koncertu nebyl tím posledním a příběh pokračoval dále... 
LOCATION:Znojmo
END:VEVENT
END:VCALENDAR